BEGIN:VCALENDAR
VERSION:2.0
PRODID:icalendar-ruby
CALSCALE:GREGORIAN
METHOD:PUBLISH
BEGIN:VEVENT
DTSTAMP:20260421T151952Z
UID:5-398434@internationalchristianmission.org
DTSTART:20260823T173000Z
DTEND:20260823T183000Z
CLASS:PUBLIC
CREATED:20260421T075038
DESCRIPTION:Sunday Worship
LAST-MODIFIED:20260421T075038
LOCATION:
SUMMARY:Sunday Worship
URL;VALUE=URI:https://internationalchristianmission.org/events/sunday-worsh
 ip/2026-08-23
END:VEVENT
END:VCALENDAR
