BEGIN:VCALENDAR
VERSION:2.0
PRODID:icalendar-ruby
CALSCALE:GREGORIAN
METHOD:PUBLISH
BEGIN:VEVENT
DTSTAMP:20260421T170552Z
UID:5-398435@internationalchristianmission.org
DTSTART:20260830T173000Z
DTEND:20260830T183000Z
CLASS:PUBLIC
CREATED:20260421T075038
DESCRIPTION:Sunday Worship
LAST-MODIFIED:20260421T075038
LOCATION:
SUMMARY:Sunday Worship
URL;VALUE=URI:https://internationalchristianmission.org/events/sunday-worsh
 ip/2026-08-30
END:VEVENT
END:VCALENDAR
