BEGIN:VCALENDAR
VERSION:2.0
PRODID:icalendar-ruby
CALSCALE:GREGORIAN
METHOD:PUBLISH
BEGIN:VEVENT
DTSTAMP:20260421T202845Z
UID:5-398959@internationalchristianmission.org
DTSTART:20260913T173000Z
DTEND:20260913T183000Z
CLASS:PUBLIC
CREATED:20260421T130645
DESCRIPTION:Sunday Worship
LAST-MODIFIED:20260421T130645
LOCATION:
SUMMARY:Sunday Worship
URL;VALUE=URI:https://internationalchristianmission.org/events/sunday-worsh
 ip/2026-09-13
END:VEVENT
END:VCALENDAR
