BEGIN:VCALENDAR
VERSION:2.0
PRODID:icalendar-ruby
CALSCALE:GREGORIAN
METHOD:PUBLISH
BEGIN:VEVENT
DTSTAMP:20260421T220422Z
UID:5-398960@internationalchristianmission.org
DTSTART:20260920T173000Z
DTEND:20260920T183000Z
CLASS:PUBLIC
CREATED:20260421T130645
DESCRIPTION:Sunday Worship
LAST-MODIFIED:20260421T130645
LOCATION:
SUMMARY:Sunday Worship
URL;VALUE=URI:https://internationalchristianmission.org/events/sunday-worsh
 ip/2026-09-20
END:VEVENT
END:VCALENDAR
