BEGIN:VCALENDAR
VERSION:2.0
PRODID:icalendar-ruby
CALSCALE:GREGORIAN
METHOD:PUBLISH
BEGIN:VEVENT
DTSTAMP:20260422T005730Z
UID:5-399223@internationalchristianmission.org
DTSTART:20261004T173000Z
DTEND:20261004T183000Z
CLASS:PUBLIC
CREATED:20260421T154500
DESCRIPTION:Sunday Worship
LAST-MODIFIED:20260421T154500
LOCATION:
SUMMARY:Sunday Worship
URL;VALUE=URI:https://internationalchristianmission.org/events/sunday-worsh
 ip/2026-10-04
END:VEVENT
END:VCALENDAR
